BEGIN:VCALENDAR
VERSION:2.0
PRODID:-//Roland Martin Marina - ECPv6.15.20//NONSGML v1.0//EN
CALSCALE:GREGORIAN
METHOD:PUBLISH
X-ORIGINAL-URL:https://rolandmartinmarina.com
X-WR-CALDESC:Events for Roland Martin Marina
REFRESH-INTERVAL;VALUE=DURATION:PT1H
X-Robots-Tag:noindex
X-PUBLISHED-TTL:PT1H
BEGIN:VTIMEZONE
TZID:America/New_York
BEGIN:DAYLIGHT
TZOFFSETFROM:-0500
TZOFFSETTO:-0400
TZNAME:EDT
DTSTART:20250309T070000
END:DAYLIGHT
BEGIN:STANDARD
TZOFFSETFROM:-0400
TZOFFSETTO:-0500
TZNAME:EST
DTSTART:20251102T060000
END:STANDARD
BEGIN:DAYLIGHT
TZOFFSETFROM:-0500
TZOFFSETTO:-0400
TZNAME:EDT
DTSTART:20260308T070000
END:DAYLIGHT
BEGIN:STANDARD
TZOFFSETFROM:-0400
TZOFFSETTO:-0500
TZNAME:EST
DTSTART:20261101T060000
END:STANDARD
BEGIN:DAYLIGHT
TZOFFSETFROM:-0500
TZOFFSETTO:-0400
TZNAME:EDT
DTSTART:20270314T070000
END:DAYLIGHT
BEGIN:STANDARD
TZOFFSETFROM:-0400
TZOFFSETTO:-0500
TZNAME:EST
DTSTART:20271107T060000
END:STANDARD
END:VTIMEZONE
BEGIN:VEVENT
DTSTART;TZID=America/New_York:20260212T190000
DTEND;TZID=America/New_York:20260212T220000
DTSTAMP:20260425T204910
CREATED:20260203T141020Z
LAST-MODIFIED:20260203T141020Z
UID:16434-1770922800-1770933600@rolandmartinmarina.com
SUMMARY:Cowboy Karaoke @ Tiki Bar
DESCRIPTION:
URL:https://rolandmartinmarina.com/event/cowboy-karaoke-tiki-bar-12/
END:VEVENT
BEGIN:VEVENT
DTSTART;TZID=America/New_York:20260213T190000
DTEND;TZID=America/New_York:20260213T230000
DTSTAMP:20260425T204910
CREATED:20260203T144056Z
LAST-MODIFIED:20260203T144056Z
UID:16449-1771009200-1771023600@rolandmartinmarina.com
SUMMARY:Cypress Creek  @ Tiki Bar
DESCRIPTION:
URL:https://rolandmartinmarina.com/event/cypress-creek-tiki-bar-2/
END:VEVENT
BEGIN:VEVENT
DTSTART;TZID=America/New_York:20260214T190000
DTEND;TZID=America/New_York:20260214T230000
DTSTAMP:20260425T204910
CREATED:20260203T144126Z
LAST-MODIFIED:20260203T144126Z
UID:16451-1771095600-1771110000@rolandmartinmarina.com
SUMMARY:DJ Cisco @ Tiki Bar
DESCRIPTION:
URL:https://rolandmartinmarina.com/event/dj-cisco-tiki-bar-9/
END:VEVENT
BEGIN:VEVENT
DTSTART;TZID=America/New_York:20260215T120000
DTEND;TZID=America/New_York:20260215T160000
DTSTAMP:20260425T204910
CREATED:20260203T144201Z
LAST-MODIFIED:20260203T144224Z
UID:16453-1771156800-1771171200@rolandmartinmarina.com
SUMMARY:PJ Carroll  @ Tiki Bar
DESCRIPTION:
URL:https://rolandmartinmarina.com/event/pj-carroll/
END:VEVENT
BEGIN:VEVENT
DTSTART;TZID=America/New_York:20260219T190000
DTEND;TZID=America/New_York:20260219T220000
DTSTAMP:20260425T204910
CREATED:20260203T141104Z
LAST-MODIFIED:20260203T141104Z
UID:16437-1771527600-1771538400@rolandmartinmarina.com
SUMMARY:Cowboy Karaoke @ Tiki Bar
DESCRIPTION:
URL:https://rolandmartinmarina.com/event/cowboy-karaoke-tiki-bar-13/
END:VEVENT
BEGIN:VEVENT
DTSTART;TZID=America/New_York:20260220T190000
DTEND;TZID=America/New_York:20260220T230000
DTSTAMP:20260425T204910
CREATED:20260203T144321Z
LAST-MODIFIED:20260203T144330Z
UID:16457-1771614000-1771628400@rolandmartinmarina.com
SUMMARY:Derrick Mac @ Tiki Bar
DESCRIPTION:
URL:https://rolandmartinmarina.com/event/derrick-mac/
END:VEVENT
BEGIN:VEVENT
DTSTART;TZID=America/New_York:20260221T190000
DTEND;TZID=America/New_York:20260221T230000
DTSTAMP:20260425T204910
CREATED:20260203T144539Z
LAST-MODIFIED:20260203T144539Z
UID:16460-1771700400-1771714800@rolandmartinmarina.com
SUMMARY:Hambone @ Tiki Bar
DESCRIPTION:
URL:https://rolandmartinmarina.com/event/hambone-tiki-bar-2/
END:VEVENT
BEGIN:VEVENT
DTSTART;TZID=America/New_York:20260222T190000
DTEND;TZID=America/New_York:20260222T230000
DTSTAMP:20260425T204910
CREATED:20260203T144621Z
LAST-MODIFIED:20260203T144621Z
UID:16464-1771786800-1771801200@rolandmartinmarina.com
SUMMARY:Mike Hill  @ Tiki Bar
DESCRIPTION:
URL:https://rolandmartinmarina.com/event/mike-hill-tiki-bar-3/
END:VEVENT
BEGIN:VEVENT
DTSTART;TZID=America/New_York:20260226T190000
DTEND;TZID=America/New_York:20260226T220000
DTSTAMP:20260425T204910
CREATED:20260203T141151Z
LAST-MODIFIED:20260203T141151Z
UID:16440-1772132400-1772143200@rolandmartinmarina.com
SUMMARY:Cowboy Karaoke @ Tiki Bar
DESCRIPTION:
URL:https://rolandmartinmarina.com/event/cowboy-karaoke-tiki-bar-14/
END:VEVENT
BEGIN:VEVENT
DTSTART;TZID=America/New_York:20260227T190000
DTEND;TZID=America/New_York:20260227T230000
DTSTAMP:20260425T204910
CREATED:20260203T144704Z
LAST-MODIFIED:20260203T144704Z
UID:16466-1772218800-1772233200@rolandmartinmarina.com
SUMMARY:Jake Hair @ Tiki Bar
DESCRIPTION:
URL:https://rolandmartinmarina.com/event/jake-hair-tiki-bar-4/
END:VEVENT
BEGIN:VEVENT
DTSTART;TZID=America/New_York:20260228T190000
DTEND;TZID=America/New_York:20260228T230000
DTSTAMP:20260425T204910
CREATED:20260203T144803Z
LAST-MODIFIED:20260203T144803Z
UID:16469-1772305200-1772319600@rolandmartinmarina.com
SUMMARY:Hired Guns @ Tiki Bar
DESCRIPTION:
URL:https://rolandmartinmarina.com/event/hired-guns-tiki-bar-3/
END:VEVENT
BEGIN:VEVENT
DTSTART;TZID=America/New_York:20260402T190000
DTEND;TZID=America/New_York:20260402T220000
DTSTAMP:20260425T204910
CREATED:20260401T163842Z
LAST-MODIFIED:20260401T163842Z
UID:16524-1775156400-1775167200@rolandmartinmarina.com
SUMMARY:Karaoke @ Tiki Bar
DESCRIPTION:
URL:https://rolandmartinmarina.com/event/karaoke-tiki-bar-14/
END:VEVENT
BEGIN:VEVENT
DTSTART;TZID=America/New_York:20260403T190000
DTEND;TZID=America/New_York:20260403T230000
DTSTAMP:20260425T204910
CREATED:20260401T164207Z
LAST-MODIFIED:20260401T164207Z
UID:16535-1775242800-1775257200@rolandmartinmarina.com
SUMMARY:The Chase @ Tiki Bar
DESCRIPTION:
URL:https://rolandmartinmarina.com/event/the-chase-tiki-bar-3/
END:VEVENT
BEGIN:VEVENT
DTSTART;TZID=America/New_York:20260404T190000
DTEND;TZID=America/New_York:20260404T230000
DTSTAMP:20260425T204910
CREATED:20260401T164317Z
LAST-MODIFIED:20260401T164317Z
UID:16537-1775329200-1775343600@rolandmartinmarina.com
SUMMARY:DJ Leo @ Tiki Bar
DESCRIPTION:
URL:https://rolandmartinmarina.com/event/dj-leo-tiki-bar-6/
END:VEVENT
BEGIN:VEVENT
DTSTART;TZID=America/New_York:20260409T190000
DTEND;TZID=America/New_York:20260409T220000
DTSTAMP:20260425T204910
CREATED:20260401T163910Z
LAST-MODIFIED:20260401T163910Z
UID:16526-1775761200-1775772000@rolandmartinmarina.com
SUMMARY:Karaoke @ Tiki Bar
DESCRIPTION:
URL:https://rolandmartinmarina.com/event/karaoke-tiki-bar-15/
END:VEVENT
BEGIN:VEVENT
DTSTART;TZID=America/New_York:20260411T190000
DTEND;TZID=America/New_York:20260411T230000
DTSTAMP:20260425T204910
CREATED:20260401T164429Z
LAST-MODIFIED:20260401T164429Z
UID:16539-1775934000-1775948400@rolandmartinmarina.com
SUMMARY:DJ Cisco @ Tiki Bar
DESCRIPTION:
URL:https://rolandmartinmarina.com/event/dj-cisco-tiki-bar-10/
END:VEVENT
BEGIN:VEVENT
DTSTART;TZID=America/New_York:20260412T190000
DTEND;TZID=America/New_York:20260412T220000
DTSTAMP:20260425T204910
CREATED:20260401T165128Z
LAST-MODIFIED:20260401T165128Z
UID:16541-1776020400-1776031200@rolandmartinmarina.com
SUMMARY:Derrick Hughes @ Tiki Bar
DESCRIPTION:
URL:https://rolandmartinmarina.com/event/derrick-hughes-tiki-bar-2/
END:VEVENT
BEGIN:VEVENT
DTSTART;TZID=America/New_York:20260416T190000
DTEND;TZID=America/New_York:20260416T220000
DTSTAMP:20260425T204910
CREATED:20260401T163959Z
LAST-MODIFIED:20260401T163959Z
UID:16528-1776366000-1776376800@rolandmartinmarina.com
SUMMARY:Karaoke @ Tiki Bar
DESCRIPTION:
URL:https://rolandmartinmarina.com/event/karaoke-tiki-bar-16/
END:VEVENT
BEGIN:VEVENT
DTSTART;TZID=America/New_York:20260417T190000
DTEND;TZID=America/New_York:20260417T230000
DTSTAMP:20260425T204910
CREATED:20260401T170058Z
LAST-MODIFIED:20260401T170058Z
UID:16543-1776452400-1776466800@rolandmartinmarina.com
SUMMARY:One Night Stand@ Tiki Bar
DESCRIPTION:
URL:https://rolandmartinmarina.com/event/one-night-stand-tiki-bar/
END:VEVENT
BEGIN:VEVENT
DTSTART;TZID=America/New_York:20260418T190000
DTEND;TZID=America/New_York:20260418T230000
DTSTAMP:20260425T204910
CREATED:20260401T170151Z
LAST-MODIFIED:20260401T170151Z
UID:16545-1776538800-1776553200@rolandmartinmarina.com
SUMMARY:DJ Cisco @ Tiki Bar
DESCRIPTION:
URL:https://rolandmartinmarina.com/event/dj-cisco-tiki-bar-11/
END:VEVENT
BEGIN:VEVENT
DTSTART;TZID=America/New_York:20260419T120000
DTEND;TZID=America/New_York:20260419T160000
DTSTAMP:20260425T204910
CREATED:20260401T171848Z
LAST-MODIFIED:20260401T171848Z
UID:16547-1776600000-1776614400@rolandmartinmarina.com
SUMMARY:Kerri Moore @ Tiki Bar
DESCRIPTION:
URL:https://rolandmartinmarina.com/event/kerri-moore-tiki-bar-7/
END:VEVENT
BEGIN:VEVENT
DTSTART;TZID=America/New_York:20260423T190000
DTEND;TZID=America/New_York:20260423T220000
DTSTAMP:20260425T204910
CREATED:20260401T164029Z
LAST-MODIFIED:20260401T164029Z
UID:16530-1776970800-1776981600@rolandmartinmarina.com
SUMMARY:Karaoke @ Tiki Bar
DESCRIPTION:
URL:https://rolandmartinmarina.com/event/karaoke-tiki-bar-17/
END:VEVENT
BEGIN:VEVENT
DTSTART;TZID=America/New_York:20260424T190000
DTEND;TZID=America/New_York:20260424T230000
DTSTAMP:20260425T204910
CREATED:20260401T182830Z
LAST-MODIFIED:20260401T182830Z
UID:16549-1777057200-1777071600@rolandmartinmarina.com
SUMMARY:Jake Hair @ Tiki Bar
DESCRIPTION:
URL:https://rolandmartinmarina.com/event/jake-hair-tiki-bar-5/
END:VEVENT
BEGIN:VEVENT
DTSTART;TZID=America/New_York:20260425T190000
DTEND;TZID=America/New_York:20260425T230000
DTSTAMP:20260425T204910
CREATED:20260401T182922Z
LAST-MODIFIED:20260401T182922Z
UID:16551-1777143600-1777158000@rolandmartinmarina.com
SUMMARY:HAMBONE @ Tiki Bar
DESCRIPTION:
URL:https://rolandmartinmarina.com/event/hambone-tiki-bar-3/
END:VEVENT
BEGIN:VEVENT
DTSTART;TZID=America/New_York:20260426T120000
DTEND;TZID=America/New_York:20260426T160000
DTSTAMP:20260425T204910
CREATED:20260401T183233Z
LAST-MODIFIED:20260401T183233Z
UID:16553-1777204800-1777219200@rolandmartinmarina.com
SUMMARY:PJ Carrol @ Tiki Bar
DESCRIPTION:
URL:https://rolandmartinmarina.com/event/pj-carrol-tiki-bar/
END:VEVENT
BEGIN:VEVENT
DTSTART;TZID=America/New_York:20260430T190000
DTEND;TZID=America/New_York:20260430T220000
DTSTAMP:20260425T204910
CREATED:20260401T164101Z
LAST-MODIFIED:20260401T164101Z
UID:16533-1777575600-1777586400@rolandmartinmarina.com
SUMMARY:Karaoke @ Tiki Bar
DESCRIPTION:
URL:https://rolandmartinmarina.com/event/karaoke-tiki-bar-18/
END:VEVENT
END:VCALENDAR