BEGIN:VCALENDAR
VERSION:2.0
PRODID:-//Roland Martin Marina - ECPv6.15.20//NONSGML v1.0//EN
CALSCALE:GREGORIAN
METHOD:PUBLISH
X-WR-CALNAME:Roland Martin Marina
X-ORIGINAL-URL:https://rolandmartinmarina.com
X-WR-CALDESC:Events for Roland Martin Marina
REFRESH-INTERVAL;VALUE=DURATION:PT1H
X-Robots-Tag:noindex
X-PUBLISHED-TTL:PT1H
BEGIN:VTIMEZONE
TZID:America/New_York
BEGIN:DAYLIGHT
TZOFFSETFROM:-0500
TZOFFSETTO:-0400
TZNAME:EDT
DTSTART:20240310T070000
END:DAYLIGHT
BEGIN:STANDARD
TZOFFSETFROM:-0400
TZOFFSETTO:-0500
TZNAME:EST
DTSTART:20241103T060000
END:STANDARD
BEGIN:DAYLIGHT
TZOFFSETFROM:-0500
TZOFFSETTO:-0400
TZNAME:EDT
DTSTART:20250309T070000
END:DAYLIGHT
BEGIN:STANDARD
TZOFFSETFROM:-0400
TZOFFSETTO:-0500
TZNAME:EST
DTSTART:20251102T060000
END:STANDARD
BEGIN:DAYLIGHT
TZOFFSETFROM:-0500
TZOFFSETTO:-0400
TZNAME:EDT
DTSTART:20260308T070000
END:DAYLIGHT
BEGIN:STANDARD
TZOFFSETFROM:-0400
TZOFFSETTO:-0500
TZNAME:EST
DTSTART:20261101T060000
END:STANDARD
END:VTIMEZONE
BEGIN:VEVENT
DTSTART;TZID=America/New_York:20251228T120000
DTEND;TZID=America/New_York:20251228T160000
DTSTAMP:20260425T223901
CREATED:20251202T201358Z
LAST-MODIFIED:20251202T201358Z
UID:16283-1766923200-1766937600@rolandmartinmarina.com
SUMMARY:Derrick Hughes @ The Tiki Bar
DESCRIPTION:
URL:https://rolandmartinmarina.com/event/derrick-hughes-the-tiki-bar-3/
END:VEVENT
BEGIN:VEVENT
DTSTART;TZID=America/New_York:20251227T190000
DTEND;TZID=America/New_York:20251227T230000
DTSTAMP:20260425T223901
CREATED:20251202T201047Z
LAST-MODIFIED:20251202T201047Z
UID:16281-1766862000-1766876400@rolandmartinmarina.com
SUMMARY:DJ Cisco @ The Tiki Bar
DESCRIPTION:
URL:https://rolandmartinmarina.com/event/dj-cisco-the-tiki-bar-9/
END:VEVENT
BEGIN:VEVENT
DTSTART;TZID=America/New_York:20251226T190000
DTEND;TZID=America/New_York:20251226T230000
DTSTAMP:20260425T223901
CREATED:20251202T201022Z
LAST-MODIFIED:20251202T201022Z
UID:16279-1766775600-1766790000@rolandmartinmarina.com
SUMMARY:Jack Kaune @ The Tiki Bar
DESCRIPTION:
URL:https://rolandmartinmarina.com/event/jack-kaune-the-tiki-bar-4/
END:VEVENT
BEGIN:VEVENT
DTSTART;TZID=America/New_York:20251221T120000
DTEND;TZID=America/New_York:20251221T160000
DTSTAMP:20260425T223901
CREATED:20251202T200805Z
LAST-MODIFIED:20251202T200856Z
UID:16276-1766318400-1766332800@rolandmartinmarina.com
SUMMARY:PJ Carroll @ The Tiki Bar
DESCRIPTION:
URL:https://rolandmartinmarina.com/event/pj-carroll-the-tiki-bar-5/
END:VEVENT
BEGIN:VEVENT
DTSTART;TZID=America/New_York:20251220T190000
DTEND;TZID=America/New_York:20251220T230000
DTSTAMP:20260425T223901
CREATED:20251202T200732Z
LAST-MODIFIED:20251202T200732Z
UID:16274-1766257200-1766271600@rolandmartinmarina.com
SUMMARY:JJ McCoy @ The Tiki Bar
DESCRIPTION:
URL:https://rolandmartinmarina.com/event/jj-mccoy-the-tiki-bar-4/
END:VEVENT
BEGIN:VEVENT
DTSTART;VALUE=DATE:20251219
DTEND;VALUE=DATE:20251222
DTSTAMP:20260425T223901
CREATED:20250829T184216Z
LAST-MODIFIED:20250829T184216Z
UID:10245-1766170800-1766343599@rolandmartinmarina.com
SUMMARY:FL JR BASS NATION
DESCRIPTION:WEIGH IN @ 3PM BOTH DAYS
URL:https://rolandmartinmarina.com/event/fl-jr-bass-nation/
END:VEVENT
BEGIN:VEVENT
DTSTART;TZID=America/New_York:20251219T190000
DTEND;TZID=America/New_York:20251219T230000
DTSTAMP:20260425T223901
CREATED:20251202T200651Z
LAST-MODIFIED:20251202T200651Z
UID:16272-1766170800-1766185200@rolandmartinmarina.com
SUMMARY:Derrick Mac @ The Tiki Bar
DESCRIPTION:
URL:https://rolandmartinmarina.com/event/derrick-mac-the-tiki-bar/
END:VEVENT
BEGIN:VEVENT
DTSTART;TZID=America/New_York:20251218T190000
DTEND;TZID=America/New_York:20251218T230000
DTSTAMP:20260425T223901
CREATED:20251202T200137Z
LAST-MODIFIED:20251202T200137Z
UID:16256-1766084400-1766098800@rolandmartinmarina.com
SUMMARY:Karaoke @ The Tiki Bar
DESCRIPTION:
URL:https://rolandmartinmarina.com/event/karaoke-the-tiki-bar-7/
END:VEVENT
BEGIN:VEVENT
DTSTART;TZID=America/New_York:20251214T120000
DTEND;TZID=America/New_York:20251214T160000
DTSTAMP:20260425T223901
CREATED:20251202T200603Z
LAST-MODIFIED:20251202T200615Z
UID:16269-1765713600-1765728000@rolandmartinmarina.com
SUMMARY:Kerri Moore @ The Tiki Bar
DESCRIPTION:
URL:https://rolandmartinmarina.com/event/kerri-moore/
END:VEVENT
BEGIN:VEVENT
DTSTART;TZID=America/New_York:20251213T190000
DTEND;TZID=America/New_York:20251213T230000
DTSTAMP:20260425T223901
CREATED:20251202T200522Z
LAST-MODIFIED:20251202T200522Z
UID:16267-1765652400-1765666800@rolandmartinmarina.com
SUMMARY:DJ Deedubz @ The Tiki Bar
DESCRIPTION:
URL:https://rolandmartinmarina.com/event/dj-deedubz-the-tiki-bar/
END:VEVENT
BEGIN:VEVENT
DTSTART;TZID=America/New_York:20251213T030000
DTEND;TZID=America/New_York:20251213T120000
DTSTAMP:20260425T223901
CREATED:20250829T183609Z
LAST-MODIFIED:20250829T183609Z
UID:10240-1765594800-1765627200@rolandmartinmarina.com
SUMMARY:TOYS FOR KIDS TOURNAMENT
DESCRIPTION:WEIGH IN @ 3PM
URL:https://rolandmartinmarina.com/event/toys-for-kids-tournament/
END:VEVENT
BEGIN:VEVENT
DTSTART;VALUE=DATE:20251212
DTEND;VALUE=DATE:20251215
DTSTAMP:20260425T223901
CREATED:20250829T183841Z
LAST-MODIFIED:20250829T183841Z
UID:10242-1765566000-1765738799@rolandmartinmarina.com
SUMMARY:FL ELITE JR & HIGH SCHOOL SERIES
DESCRIPTION:WEIGH IN @ 3PM BOTH DAYS
URL:https://rolandmartinmarina.com/event/fl-elite-jr-high-school-series/
END:VEVENT
BEGIN:VEVENT
DTSTART;TZID=America/New_York:20251212T190000
DTEND;TZID=America/New_York:20251212T230000
DTSTAMP:20260425T223901
CREATED:20251202T200451Z
LAST-MODIFIED:20251202T200451Z
UID:16265-1765566000-1765580400@rolandmartinmarina.com
SUMMARY:Jake Hair @ The Tiki Bar
DESCRIPTION:
URL:https://rolandmartinmarina.com/event/jake-hair-the-tiki-bar-2/
END:VEVENT
BEGIN:VEVENT
DTSTART;TZID=America/New_York:20251211T190000
DTEND;TZID=America/New_York:20251211T230000
DTSTAMP:20260425T223901
CREATED:20251202T194643Z
LAST-MODIFIED:20251202T194643Z
UID:16254-1765479600-1765494000@rolandmartinmarina.com
SUMMARY:Karaoke @ The Tiki Bar
DESCRIPTION:
URL:https://rolandmartinmarina.com/event/karaoke-the-tiki-bar-6/
END:VEVENT
BEGIN:VEVENT
DTSTART;TZID=America/New_York:20251208T120000
DTEND;TZID=America/New_York:20251208T160000
DTSTAMP:20260425T223901
CREATED:20251202T200414Z
LAST-MODIFIED:20251202T200414Z
UID:16263-1765195200-1765209600@rolandmartinmarina.com
SUMMARY:PJ Carroll @ The Tiki Bar
DESCRIPTION:
URL:https://rolandmartinmarina.com/event/pj-carroll-the-tiki-bar-4/
END:VEVENT
BEGIN:VEVENT
DTSTART;TZID=America/New_York:20251206T190000
DTEND;TZID=America/New_York:20251206T230000
DTSTAMP:20260425T223901
CREATED:20251202T200328Z
LAST-MODIFIED:20251202T200328Z
UID:16261-1765047600-1765062000@rolandmartinmarina.com
SUMMARY:Hired Guns @ The Tiki Bar
DESCRIPTION:
URL:https://rolandmartinmarina.com/event/hired-guns-the-tiki-bar-3/
END:VEVENT
BEGIN:VEVENT
DTSTART;TZID=America/New_York:20251206T020000
DTEND;TZID=America/New_York:20251207T120000
DTSTAMP:20260425T223901
CREATED:20250306T210352Z
LAST-MODIFIED:20250306T210411Z
UID:8670-1764986400-1765108800@rolandmartinmarina.com
SUMMARY:RMMC Series Tournament CHAMPIONSHIP - 2 DAY
DESCRIPTION:Launch @ 7am \nWeigh in @ 3pm
URL:https://rolandmartinmarina.com/event/rmmc-series-tournament-championship-2-day/
END:VEVENT
BEGIN:VEVENT
DTSTART;TZID=America/New_York:20251205T190000
DTEND;TZID=America/New_York:20251205T230000
DTSTAMP:20260425T223901
CREATED:20251202T200241Z
LAST-MODIFIED:20251202T200241Z
UID:16259-1764961200-1764975600@rolandmartinmarina.com
SUMMARY:Cypress Creek @ The Tiki Bar
DESCRIPTION:
URL:https://rolandmartinmarina.com/event/cypress-creek-the-tiki-bar-2/
END:VEVENT
BEGIN:VEVENT
DTSTART;TZID=America/New_York:20251204T190000
DTEND;TZID=America/New_York:20251204T220000
DTSTAMP:20260425T223901
CREATED:20251202T190644Z
LAST-MODIFIED:20251202T190644Z
UID:16252-1764874800-1764885600@rolandmartinmarina.com
SUMMARY:Karaoke @ The Tiki Bar
DESCRIPTION:
URL:https://rolandmartinmarina.com/event/karaoke-the-tiki-bar-5/
END:VEVENT
BEGIN:VEVENT
DTSTART;TZID=America/New_York:20251130T120000
DTEND;TZID=America/New_York:20251130T160000
DTSTAMP:20260425T223901
CREATED:20251106T181046Z
LAST-MODIFIED:20251106T181046Z
UID:16201-1764504000-1764518400@rolandmartinmarina.com
SUMMARY:PJ CARROLL @ The Tiki Bar
DESCRIPTION:
URL:https://rolandmartinmarina.com/event/pj-carroll-the-tiki-bar-3/
END:VEVENT
BEGIN:VEVENT
DTSTART;TZID=America/New_York:20251129T190000
DTEND;TZID=America/New_York:20251129T230000
DTSTAMP:20260425T223901
CREATED:20251106T180954Z
LAST-MODIFIED:20251106T180954Z
UID:16199-1764442800-1764457200@rolandmartinmarina.com
SUMMARY:DJ CISCO @ The Tiki Bar
DESCRIPTION:
URL:https://rolandmartinmarina.com/event/dj-cisco-the-tiki-bar-8/
END:VEVENT
BEGIN:VEVENT
DTSTART;TZID=America/New_York:20251128T190000
DTEND;TZID=America/New_York:20251128T230000
DTSTAMP:20260425T223901
CREATED:20251106T180912Z
LAST-MODIFIED:20251106T180912Z
UID:16197-1764356400-1764370800@rolandmartinmarina.com
SUMMARY:JJ MCCOY @ The Tiki Bar
DESCRIPTION:
URL:https://rolandmartinmarina.com/event/jj-mccoy-the-tiki-bar-3/
END:VEVENT
BEGIN:VEVENT
DTSTART;TZID=America/New_York:20251127T190000
DTEND;TZID=America/New_York:20251127T220000
DTSTAMP:20260425T223901
CREATED:20251106T175215Z
LAST-MODIFIED:20251106T175215Z
UID:16174-1764270000-1764280800@rolandmartinmarina.com
SUMMARY:Koraoke @ The Tiki Bar
DESCRIPTION:
URL:https://rolandmartinmarina.com/event/koraoke-the-tiki-bar-4/
END:VEVENT
BEGIN:VEVENT
DTSTART;TZID=America/New_York:20251123T120000
DTEND;TZID=America/New_York:20251123T160000
DTSTAMP:20260425T223901
CREATED:20251106T180811Z
LAST-MODIFIED:20251106T180811Z
UID:16195-1763899200-1763913600@rolandmartinmarina.com
SUMMARY:PJ CARROLL @ The Tiki Bar
DESCRIPTION:
URL:https://rolandmartinmarina.com/event/pj-carroll-the-tiki-bar-2/
END:VEVENT
BEGIN:VEVENT
DTSTART;TZID=America/New_York:20251122T190000
DTEND;TZID=America/New_York:20251122T230000
DTSTAMP:20260425T223901
CREATED:20251106T180711Z
LAST-MODIFIED:20251106T180711Z
UID:16193-1763838000-1763852400@rolandmartinmarina.com
SUMMARY:DJ CISCO @ The Tiki Bar
DESCRIPTION:
URL:https://rolandmartinmarina.com/event/dj-cisco-the-tiki-bar-7/
END:VEVENT
BEGIN:VEVENT
DTSTART;TZID=America/New_York:20251122T030000
DTEND;TZID=America/New_York:20251123T120000
DTSTAMP:20260425T223901
CREATED:20250829T183431Z
LAST-MODIFIED:20250829T183431Z
UID:10238-1763780400-1763899200@rolandmartinmarina.com
SUMMARY:BASS BUSTERS TOURNAMENT
DESCRIPTION:WEIGH IN @ 3PM BOTH DAYS
URL:https://rolandmartinmarina.com/event/bass-busters-tournament-3/
END:VEVENT
BEGIN:VEVENT
DTSTART;TZID=America/New_York:20251121T190000
DTEND;TZID=America/New_York:20251121T230000
DTSTAMP:20260425T223901
CREATED:20251106T180640Z
LAST-MODIFIED:20251106T180640Z
UID:16191-1763751600-1763766000@rolandmartinmarina.com
SUMMARY:Jake Hair Band @ The Tiki Bar
DESCRIPTION:
URL:https://rolandmartinmarina.com/event/jake-hair-band-the-tiki-bar-2/
END:VEVENT
BEGIN:VEVENT
DTSTART;TZID=America/New_York:20251120T190000
DTEND;TZID=America/New_York:20251120T220000
DTSTAMP:20260425T223901
CREATED:20251106T175138Z
LAST-MODIFIED:20251106T175138Z
UID:16172-1763665200-1763676000@rolandmartinmarina.com
SUMMARY:Koraoke @ The Tiki Bar
DESCRIPTION:
URL:https://rolandmartinmarina.com/event/koraoke-the-tiki-bar-3/
END:VEVENT
BEGIN:VEVENT
DTSTART;TZID=America/New_York:20251116T120000
DTEND;TZID=America/New_York:20251116T160000
DTSTAMP:20260425T223901
CREATED:20251106T180416Z
LAST-MODIFIED:20251106T180416Z
UID:16189-1763294400-1763308800@rolandmartinmarina.com
SUMMARY:Derrick Hughes @ The Tiki Bar
DESCRIPTION:
URL:https://rolandmartinmarina.com/event/derrick-hughes-the-tiki-bar-2/
END:VEVENT
BEGIN:VEVENT
DTSTART;TZID=America/New_York:20251115T190000
DTEND;TZID=America/New_York:20251115T230000
DTSTAMP:20260425T223901
CREATED:20251106T180346Z
LAST-MODIFIED:20251106T180346Z
UID:16187-1763233200-1763247600@rolandmartinmarina.com
SUMMARY:Hired Guns @ The Tiki Bar
DESCRIPTION:
URL:https://rolandmartinmarina.com/event/hired-guns-the-tiki-bar-2/
END:VEVENT
END:VCALENDAR