BEGIN:VCALENDAR
VERSION:2.0
PRODID:-//Roland Martin Marina - ECPv6.15.20//NONSGML v1.0//EN
CALSCALE:GREGORIAN
METHOD:PUBLISH
X-WR-CALNAME:Roland Martin Marina
X-ORIGINAL-URL:https://rolandmartinmarina.com
X-WR-CALDESC:Events for Roland Martin Marina
REFRESH-INTERVAL;VALUE=DURATION:PT1H
X-Robots-Tag:noindex
X-PUBLISHED-TTL:PT1H
BEGIN:VTIMEZONE
TZID:America/New_York
BEGIN:DAYLIGHT
TZOFFSETFROM:-0500
TZOFFSETTO:-0400
TZNAME:EDT
DTSTART:20240310T070000
END:DAYLIGHT
BEGIN:STANDARD
TZOFFSETFROM:-0400
TZOFFSETTO:-0500
TZNAME:EST
DTSTART:20241103T060000
END:STANDARD
BEGIN:DAYLIGHT
TZOFFSETFROM:-0500
TZOFFSETTO:-0400
TZNAME:EDT
DTSTART:20250309T070000
END:DAYLIGHT
BEGIN:STANDARD
TZOFFSETFROM:-0400
TZOFFSETTO:-0500
TZNAME:EST
DTSTART:20251102T060000
END:STANDARD
BEGIN:DAYLIGHT
TZOFFSETFROM:-0500
TZOFFSETTO:-0400
TZNAME:EDT
DTSTART:20260308T070000
END:DAYLIGHT
BEGIN:STANDARD
TZOFFSETFROM:-0400
TZOFFSETTO:-0500
TZNAME:EST
DTSTART:20261101T060000
END:STANDARD
END:VTIMEZONE
BEGIN:VEVENT
DTSTART;VALUE=DATE:20251219
DTEND;VALUE=DATE:20251222
DTSTAMP:20260425T205117
CREATED:20250829T184216Z
LAST-MODIFIED:20250829T184216Z
UID:10245-1766170800-1766343599@rolandmartinmarina.com
SUMMARY:FL JR BASS NATION
DESCRIPTION:WEIGH IN @ 3PM BOTH DAYS
URL:https://rolandmartinmarina.com/event/fl-jr-bass-nation/
END:VEVENT
BEGIN:VEVENT
DTSTART;TZID=America/New_York:20251221T120000
DTEND;TZID=America/New_York:20251221T160000
DTSTAMP:20260425T205117
CREATED:20251202T200805Z
LAST-MODIFIED:20251202T200856Z
UID:16276-1766318400-1766332800@rolandmartinmarina.com
SUMMARY:PJ Carroll @ The Tiki Bar
DESCRIPTION:
URL:https://rolandmartinmarina.com/event/pj-carroll-the-tiki-bar-5/
END:VEVENT
END:VCALENDAR