BEGIN:VCALENDAR
VERSION:2.0
PRODID:-//Roland Martin Marina - ECPv6.15.20//NONSGML v1.0//EN
CALSCALE:GREGORIAN
METHOD:PUBLISH
X-WR-CALNAME:Roland Martin Marina
X-ORIGINAL-URL:https://rolandmartinmarina.com
X-WR-CALDESC:Events for Roland Martin Marina
REFRESH-INTERVAL;VALUE=DURATION:PT1H
X-Robots-Tag:noindex
X-PUBLISHED-TTL:PT1H
BEGIN:VTIMEZONE
TZID:America/New_York
BEGIN:DAYLIGHT
TZOFFSETFROM:-0500
TZOFFSETTO:-0400
TZNAME:EDT
DTSTART:20240310T070000
END:DAYLIGHT
BEGIN:STANDARD
TZOFFSETFROM:-0400
TZOFFSETTO:-0500
TZNAME:EST
DTSTART:20241103T060000
END:STANDARD
BEGIN:DAYLIGHT
TZOFFSETFROM:-0500
TZOFFSETTO:-0400
TZNAME:EDT
DTSTART:20250309T070000
END:DAYLIGHT
BEGIN:STANDARD
TZOFFSETFROM:-0400
TZOFFSETTO:-0500
TZNAME:EST
DTSTART:20251102T060000
END:STANDARD
BEGIN:DAYLIGHT
TZOFFSETFROM:-0500
TZOFFSETTO:-0400
TZNAME:EDT
DTSTART:20260308T070000
END:DAYLIGHT
BEGIN:STANDARD
TZOFFSETFROM:-0400
TZOFFSETTO:-0500
TZNAME:EST
DTSTART:20261101T060000
END:STANDARD
END:VTIMEZONE
BEGIN:VEVENT
DTSTART;VALUE=DATE:20251212
DTEND;VALUE=DATE:20251215
DTSTAMP:20260425T205119
CREATED:20250829T183841Z
LAST-MODIFIED:20250829T183841Z
UID:10242-1765566000-1765738799@rolandmartinmarina.com
SUMMARY:FL ELITE JR & HIGH SCHOOL SERIES
DESCRIPTION:WEIGH IN @ 3PM BOTH DAYS
URL:https://rolandmartinmarina.com/event/fl-elite-jr-high-school-series/
END:VEVENT
BEGIN:VEVENT
DTSTART;TZID=America/New_York:20251213T030000
DTEND;TZID=America/New_York:20251213T120000
DTSTAMP:20260425T205119
CREATED:20250829T183609Z
LAST-MODIFIED:20250829T183609Z
UID:10240-1765594800-1765627200@rolandmartinmarina.com
SUMMARY:TOYS FOR KIDS TOURNAMENT
DESCRIPTION:WEIGH IN @ 3PM
URL:https://rolandmartinmarina.com/event/toys-for-kids-tournament/
END:VEVENT
BEGIN:VEVENT
DTSTART;TZID=America/New_York:20251213T190000
DTEND;TZID=America/New_York:20251213T230000
DTSTAMP:20260425T205119
CREATED:20251202T200522Z
LAST-MODIFIED:20251202T200522Z
UID:16267-1765652400-1765666800@rolandmartinmarina.com
SUMMARY:DJ Deedubz @ The Tiki Bar
DESCRIPTION:
URL:https://rolandmartinmarina.com/event/dj-deedubz-the-tiki-bar/
END:VEVENT
END:VCALENDAR